BEGIN:VCALENDAR
VERSION:2.0
PRODID:msgf-nyustern.hkust.edu.hk
BEGIN:VEVENT
UID:69e5d79f77858
DTSTART;VALUE=DATE:20250608
SEQUENCE:0
TRANSP:OPAQUE
DTEND;VALUE=DATE:20250611
SUMMARY:HKUST-NYU Stern 环球金融理学硕士 (MSGF) 课程访问机会
 ，2025 年 6 月 8 日 - 10 日\, 上海
CLASS:PUBLIC
DESCRIPTION:HKUST-NYU Stern 环球金融理学硕士 (MSGF) 课程访问机
 会，2025 年 6 月 8 日 - 10 日\, 上海
X-MICROSOFT-CDO-ALLDAYEVENT:TRUE
DTSTAMP:20260420T073703Z
END:VEVENT
END:VCALENDAR